BEGIN:VCALENDAR
VERSION:2.0
PRODID:-//GWC - ECPv6.14.0//NONSGML v1.0//EN
CALSCALE:GREGORIAN
METHOD:PUBLISH
X-ORIGINAL-URL:https://greaterwestcovina.com
X-WR-CALDESC:Events for GWC
REFRESH-INTERVAL;VALUE=DURATION:PT1H
X-Robots-Tag:noindex
X-PUBLISHED-TTL:PT1H
BEGIN:VTIMEZONE
TZID:Europe/London
BEGIN:DAYLIGHT
TZOFFSETFROM:+0000
TZOFFSETTO:+0100
TZNAME:BST
DTSTART:20250330T010000
END:DAYLIGHT
BEGIN:STANDARD
TZOFFSETFROM:+0100
TZOFFSETTO:+0000
TZNAME:GMT
DTSTART:20251026T010000
END:STANDARD
END:VTIMEZONE
BEGIN:VEVENT
DTSTART;TZID=Europe/London:20250321T090000
DTEND;TZID=Europe/London:20250321T103000
DTSTAMP:20260424T212007
CREATED:20250206T230633Z
LAST-MODIFIED:20250210T214050Z
UID:1172-1742547600-1742553000@greaterwestcovina.com
SUMMARY:Legislative Breakfast
DESCRIPTION:click here to purchase tickets! \nDownload sponsor form and become a sponsor today! \nJoin us for an inspiring Legislative Breakfast with Assemblywoman Blanca Rubio\, where we’ll discuss key issues impacting our community and the opportunities ahead. This is a unique chance to engage in meaningful dialogue\, network with local leaders\, and gain valuable insights into legislative priorities that affect our businesses. Don’t miss this opportunity to be part of the conversation! Reserve your spot today and be a part of the change.
URL:https://greaterwestcovina.com/event/legislative-breakfast/
LOCATION:lazy Dog Restaurant\, 1440 Plaza Dr.\, West Covina\, CA\, 91790\, United States
END:VEVENT
END:VCALENDAR