BEGIN:VCALENDAR
VERSION:2.0
PRODID:-//GWC - ECPv6.14.0//NONSGML v1.0//EN
CALSCALE:GREGORIAN
METHOD:PUBLISH
X-WR-CALNAME:GWC
X-ORIGINAL-URL:https://greaterwestcovina.com
X-WR-CALDESC:Events for GWC
REFRESH-INTERVAL;VALUE=DURATION:PT1H
X-Robots-Tag:noindex
X-PUBLISHED-TTL:PT1H
BEGIN:VTIMEZONE
TZID:Europe/London
BEGIN:DAYLIGHT
TZOFFSETFROM:+0000
TZOFFSETTO:+0100
TZNAME:BST
DTSTART:20260329T010000
END:DAYLIGHT
BEGIN:STANDARD
TZOFFSETFROM:+0100
TZOFFSETTO:+0000
TZNAME:GMT
DTSTART:20261025T010000
END:STANDARD
END:VTIMEZONE
BEGIN:VEVENT
DTSTART;TZID=Europe/London:20260626T080000
DTEND;TZID=Europe/London:20260626T103000
DTSTAMP:20260422T002844
CREATED:20260420T195406Z
LAST-MODIFIED:20260420T195735Z
UID:1637-1782460800-1782469800@greaterwestcovina.com
SUMMARY:Legislative Breakfast with Assemblymember Blanca Rubio
DESCRIPTION:Start your morning with a side of civic engagement! The Greater West Covina Business Association invites you to a powerhouse breakfast at Lazy Dog Restaurant featuring Assemblymember Blanca Rubio. Representing California’s 48th District\, Assemblymember Rubio will be providing a crucial inside look at the legislative issues currently shaping our local business landscape. Don’t miss this opportunity to connect with fellow leaders\, get your questions answered\, and fuel up for the future of our community. \nSpace is limited—secure your seat at the table today! \nClick to purchase tickets!
URL:https://greaterwestcovina.com/event/legislative-breakfast-with-assemblymember-blanca-rubio/
LOCATION:lazy Dog Restaurant\, 1440 Plaza Dr.\, West Covina\, CA\, 91790\, United States
END:VEVENT
END:VCALENDAR