BEGIN:VCALENDAR
VERSION:2.0
PRODID:-//GWC - ECPv6.14.0//NONSGML v1.0//EN
CALSCALE:GREGORIAN
METHOD:PUBLISH
X-ORIGINAL-URL:https://greaterwestcovina.com
X-WR-CALDESC:Events for GWC
REFRESH-INTERVAL;VALUE=DURATION:PT1H
X-Robots-Tag:noindex
X-PUBLISHED-TTL:PT1H
BEGIN:VTIMEZONE
TZID:Europe/London
BEGIN:DAYLIGHT
TZOFFSETFROM:+0000
TZOFFSETTO:+0100
TZNAME:BST
DTSTART:20250330T010000
END:DAYLIGHT
BEGIN:STANDARD
TZOFFSETFROM:+0100
TZOFFSETTO:+0000
TZNAME:GMT
DTSTART:20251026T010000
END:STANDARD
END:VTIMEZONE
BEGIN:VEVENT
DTSTART;TZID=Europe/London:20250227T183000
DTEND;TZID=Europe/London:20250227T210000
DTSTAMP:20260424T212058
CREATED:20250124T232646Z
LAST-MODIFIED:20250128T220731Z
UID:1067-1740681000-1740690000@greaterwestcovina.com
SUMMARY:GWC BUSINESS MIXER COMEDY NIGHT
DESCRIPTION:CLICK FLYER TO PURCHASE TICKETS \nWe are excited to announce our first business mixer of 2025. We will be having a time of networking\, food and drinks\, laughter and our very own Executive Director J.R. Esquivel birthday celebration. \n 
URL:https://greaterwestcovina.com/event/gwc-business-mixer-comedy-night/
LOCATION:Temble Bar Urban Eats\, 128 N. Grand Ave.\, West Covina\, CA\, 91790\, United States
END:VEVENT
END:VCALENDAR