BEGIN:VCALENDAR
VERSION:2.0
PRODID:-//GWC - ECPv6.14.0//NONSGML v1.0//EN
CALSCALE:GREGORIAN
METHOD:PUBLISH
X-WR-CALNAME:GWC
X-ORIGINAL-URL:https://greaterwestcovina.com
X-WR-CALDESC:Events for GWC
REFRESH-INTERVAL;VALUE=DURATION:PT1H
X-Robots-Tag:noindex
X-PUBLISHED-TTL:PT1H
BEGIN:VTIMEZONE
TZID:Europe/London
BEGIN:DAYLIGHT
TZOFFSETFROM:+0000
TZOFFSETTO:+0100
TZNAME:BST
DTSTART:20250330T010000
END:DAYLIGHT
BEGIN:STANDARD
TZOFFSETFROM:+0100
TZOFFSETTO:+0000
TZNAME:GMT
DTSTART:20251026T010000
END:STANDARD
END:VTIMEZONE
BEGIN:VEVENT
DTSTART;TZID=Europe/London:20250515T093000
DTEND;TZID=Europe/London:20250515T110000
DTSTAMP:20260424T161511
CREATED:20250401T204906Z
LAST-MODIFIED:20250411T192854Z
UID:1299-1747301400-1747306800@greaterwestcovina.com
SUMMARY:GWC Unsung Heroes Breakfast
DESCRIPTION:.    \nJoin us for a heartfelt morning of gratitude as we celebrate the selfless individuals who make an impact behind the scenes. Enjoy a delicious breakfast\, inspiring stories\, and a community of appreciation. \ndownload form here Unsung Heroes Breakfast Nomination Form \n    Purchase tickets here! \nLocation: Sabino Kitchen 535 S. California Ave. West Covina CA\, 91790 \nPrice: $20 Per Person \nIf you would like to nominate someone\, please contact us at 626-533-6168 or mc.gwc@me.com \n  \n 
URL:https://greaterwestcovina.com/event/gwc-unsung-heroes-breakfast/
LOCATION:CA
END:VEVENT
END:VCALENDAR