BEGIN:VCALENDAR
VERSION:2.0
PRODID:-//GWC - ECPv6.14.0//NONSGML v1.0//EN
CALSCALE:GREGORIAN
METHOD:PUBLISH
X-WR-CALNAME:GWC
X-ORIGINAL-URL:https://greaterwestcovina.com
X-WR-CALDESC:Events for GWC
REFRESH-INTERVAL;VALUE=DURATION:PT1H
X-Robots-Tag:noindex
X-PUBLISHED-TTL:PT1H
BEGIN:VTIMEZONE
TZID:Europe/London
BEGIN:DAYLIGHT
TZOFFSETFROM:+0000
TZOFFSETTO:+0100
TZNAME:BST
DTSTART:20250330T010000
END:DAYLIGHT
BEGIN:STANDARD
TZOFFSETFROM:+0100
TZOFFSETTO:+0000
TZNAME:GMT
DTSTART:20251026T010000
END:STANDARD
END:VTIMEZONE
BEGIN:VEVENT
DTSTART;TZID=Europe/London:20250924T180000
DTEND;TZID=Europe/London:20251008T190000
DTSTAMP:20260422T022800
CREATED:20250829T213431Z
LAST-MODIFIED:20250930T184729Z
UID:1466-1758736800-1759950000@greaterwestcovina.com
SUMMARY:Hispanic Heritage Month Celebrations
DESCRIPTION:Welcome to the Hispanic Heritage Month Celebrations at Plaza West Covina! Join us for a vibrant and festive event celebrating the rich culture and traditions of the Hispanic community. In collaboration with Los Angeles Latino Chamber of Commerce and South El Monte\, El Monte Chamber of Commerce. Experience live music\, traditional dances\, and interactive activities for all ages. Don’t miss this opportunity to immerse yourself in the beauty of Hispanic heritage. Come and celebrate with us! \nWe have more artist and influencers coming out! So make sure to come out and support.
URL:https://greaterwestcovina.com/event/hispanic-heritage-month-celebrations/
LOCATION:CA
END:VEVENT
END:VCALENDAR